BEGIN:VCALENDAR
VERSION:2.0
PRODID:-//Actief &#039;81 - ECPv6.15.14//NONSGML v1.0//EN
CALSCALE:GREGORIAN
METHOD:PUBLISH
X-WR-CALNAME:Actief &#039;81
X-ORIGINAL-URL:https://www.actief81.nl
X-WR-CALDESC:Evenementen voor Actief &#039;81
REFRESH-INTERVAL;VALUE=DURATION:PT1H
X-Robots-Tag:noindex
X-PUBLISHED-TTL:PT1H
BEGIN:VTIMEZONE
TZID:Europe/Amsterdam
BEGIN:DAYLIGHT
TZOFFSETFROM:+0100
TZOFFSETTO:+0200
TZNAME:CEST
DTSTART:20240331T010000
END:DAYLIGHT
BEGIN:STANDARD
TZOFFSETFROM:+0200
TZOFFSETTO:+0100
TZNAME:CET
DTSTART:20241027T010000
END:STANDARD
BEGIN:DAYLIGHT
TZOFFSETFROM:+0100
TZOFFSETTO:+0200
TZNAME:CEST
DTSTART:20250330T010000
END:DAYLIGHT
BEGIN:STANDARD
TZOFFSETFROM:+0200
TZOFFSETTO:+0100
TZNAME:CET
DTSTART:20251026T010000
END:STANDARD
BEGIN:DAYLIGHT
TZOFFSETFROM:+0100
TZOFFSETTO:+0200
TZNAME:CEST
DTSTART:20260329T010000
END:DAYLIGHT
BEGIN:STANDARD
TZOFFSETFROM:+0200
TZOFFSETTO:+0100
TZNAME:CET
DTSTART:20261025T010000
END:STANDARD
BEGIN:DAYLIGHT
TZOFFSETFROM:+0100
TZOFFSETTO:+0200
TZNAME:CEST
DTSTART:20270328T010000
END:DAYLIGHT
BEGIN:STANDARD
TZOFFSETFROM:+0200
TZOFFSETTO:+0100
TZNAME:CET
DTSTART:20271031T010000
END:STANDARD
END:VTIMEZONE
BEGIN:VEVENT
DTSTART;TZID=Europe/Amsterdam:20260211T194500
DTEND;TZID=Europe/Amsterdam:20260211T230000
DTSTAMP:20260425T173924
CREATED:20260118T171646Z
LAST-MODIFIED:20260118T173115Z
UID:11868-1770839100-1770850800@www.actief81.nl
SUMMARY:Midweek Valkenhuizen (2)
DESCRIPTION:
URL:https://www.actief81.nl/evenement/midweek-valkenhuizen-2/
LOCATION:Valkenhuizen\, Arnhem\, Beukenlaan 15\, Arnhem\, 6823 MA\, Netherlands
CATEGORIES:Midweek Valkenhuizen
END:VEVENT
BEGIN:VEVENT
DTSTART;TZID=Europe/Amsterdam:20260203T204500
DTEND;TZID=Europe/Amsterdam:20260203T223000
DTSTAMP:20260425T173924
CREATED:20260104T160631Z
LAST-MODIFIED:20260104T160631Z
UID:11588-1770151500-1770157800@www.actief81.nl
SUMMARY:Actief'81 - Wijhe'92
DESCRIPTION:
URL:https://www.actief81.nl/evenement/actief81-wijhe92/
LOCATION:de Nieuwhof\, Westervoort\, Rivierweg 1\, Westervoort\, Netherlands
CATEGORIES:Heren competitie
END:VEVENT
BEGIN:VEVENT
DTSTART;TZID=Europe/Amsterdam:20260130T200000
DTEND;TZID=Europe/Amsterdam:20260130T220000
DTSTAMP:20260425T173924
CREATED:20260118T153305Z
LAST-MODIFIED:20260118T154338Z
UID:11833-1769803200-1769810400@www.actief81.nl
SUMMARY:Bestuursvergadering
DESCRIPTION:
URL:https://www.actief81.nl/evenement/bestuursvergadering/
CATEGORIES:Van het bestuur
END:VEVENT
BEGIN:VEVENT
DTSTART;TZID=Europe/Amsterdam:20260129T204500
DTEND;TZID=Europe/Amsterdam:20260129T223000
DTSTAMP:20260425T173924
CREATED:20260104T155653Z
LAST-MODIFIED:20260104T155921Z
UID:11585-1769719500-1769725800@www.actief81.nl
SUMMARY:SV Loil - Actief'81
DESCRIPTION:
URL:https://www.actief81.nl/evenement/sv-loil-actief81/
LOCATION:De Zomp\, Loil\, Wehlseweg 42\, Didam\, Netherlands
CATEGORIES:Heren competitie
END:VEVENT
BEGIN:VEVENT
DTSTART;TZID=Europe/Amsterdam:20260128T194500
DTEND;TZID=Europe/Amsterdam:20260128T230000
DTSTAMP:20260425T173924
CREATED:20260118T171107Z
LAST-MODIFIED:20260118T173901Z
UID:11863-1769629500-1769641200@www.actief81.nl
SUMMARY:Midweek Valkenhuizen (1)
DESCRIPTION:
URL:https://www.actief81.nl/evenement/midweek-valkenhuizen/
LOCATION:Valkenhuizen\, Arnhem\, Beukenlaan 15\, Arnhem\, 6823 MA\, Netherlands
CATEGORIES:Midweek Valkenhuizen
END:VEVENT
BEGIN:VEVENT
DTSTART;TZID=Europe/Amsterdam:20260113T204500
DTEND;TZID=Europe/Amsterdam:20260113T223000
DTSTAMP:20260425T173924
CREATED:20260104T153802Z
LAST-MODIFIED:20260104T154627Z
UID:11579-1768337100-1768343400@www.actief81.nl
SUMMARY:Actief'81 - VIOS Beltrum
DESCRIPTION:
URL:https://www.actief81.nl/evenement/actief81-vios-beltrum/
LOCATION:de Nieuwhof\, Westervoort\, Rivierweg 1\, Westervoort\, Netherlands
END:VEVENT
BEGIN:VEVENT
DTSTART;TZID=Europe/Amsterdam:20260106T204500
DTEND;TZID=Europe/Amsterdam:20260106T223000
DTSTAMP:20260425T173924
CREATED:20260104T153559Z
LAST-MODIFIED:20260104T153856Z
UID:11576-1767732300-1767738600@www.actief81.nl
SUMMARY:Actief'81 - ACE'19
DESCRIPTION:
URL:https://www.actief81.nl/evenement/actief81-ace19/
END:VEVENT
BEGIN:VEVENT
DTSTART;TZID=Europe/Amsterdam:20250816T000000
DTEND;TZID=Europe/Amsterdam:20250817T235959
DTSTAMP:20260425T173924
CREATED:20250604T190945Z
LAST-MODIFIED:20260103T211549Z
UID:11102-1755302400-1755475199@www.actief81.nl
SUMMARY:Beachvolleybal toernooi Westervoort
DESCRIPTION:
URL:https://www.actief81.nl/evenement/beach-volleybal-toernooi-de-waaij/
END:VEVENT
BEGIN:VEVENT
DTSTART;TZID=Europe/Amsterdam:20250520T193000
DTEND;TZID=Europe/Amsterdam:20250520T203000
DTSTAMP:20260425T173924
CREATED:20250504T183416Z
LAST-MODIFIED:20250504T183416Z
UID:11083-1747769400-1747773000@www.actief81.nl
SUMMARY:Algemene ledenvergadering Actief '81
DESCRIPTION:Locatie “De Nieuwhof” 
URL:https://www.actief81.nl/evenement/algemene-ledenvergadering-actief-81/
END:VEVENT
END:VCALENDAR